BEGIN:VCALENDAR
VERSION:2.0
PRODID:-//jEvents 1.5 for Joomla//EN
CALSCALE:GREGORIAN
METHOD:PUBLISH
BEGIN:VEVENT

UID:e9246cca61f109ce979a6b5e41d62b90
CATEGORIES:Default
SUMMARY:Coffee with the Pastor
LOCATION:
DESCRIPTION;ENCODING=QUOTED-PRINTABLE:

DTSTAMP:20260421T211750Z
DTSTART:20130917T093000Z
DTEND:20130917T235959Z
SEQUENCE:0
TRANSP:OPAQUE
END:VEVENT
END:VCALENDAR