BEGIN:VCALENDAR
VERSION:2.0
PRODID:-//jEvents 1.5 for Joomla//EN
CALSCALE:GREGORIAN
METHOD:PUBLISH
BEGIN:VEVENT

UID:bd03d10e30e0bc432c6350d138f3af28
CATEGORIES:Default
SUMMARY:Golden Living Center Visits
LOCATION:
DESCRIPTION;ENCODING=QUOTED-PRINTABLE:

DTSTAMP:20260419T224052Z
DTSTART:20130628T033000Z
DTEND:20130628T235959Z
SEQUENCE:0
TRANSP:OPAQUE
END:VEVENT
END:VCALENDAR