BEGIN:VCALENDAR
VERSION:2.0
PRODID:-//jEvents 1.5 for Joomla//EN
CALSCALE:GREGORIAN
METHOD:PUBLISH
BEGIN:VEVENT

UID:75279322b3aa9ef000aeb07d6e47ee6d
CATEGORIES:Default
SUMMARY:Church Rummage Sale
LOCATION:
DESCRIPTION;ENCODING=QUOTED-PRINTABLE:

DTSTAMP:20260422T065357Z
DTSTART:20131012
DTEND:20131012
SEQUENCE:0
TRANSP:OPAQUE
END:VEVENT
END:VCALENDAR