BEGIN:VCALENDAR
VERSION:2.0
PRODID:-//jEvents 1.5 for Joomla//EN
CALSCALE:GREGORIAN
METHOD:PUBLISH
BEGIN:VEVENT

UID:cef41eb0023aa959a7aec5ce3219ae7b
CATEGORIES:Default
SUMMARY:Youth Group
LOCATION:
DESCRIPTION;ENCODING=QUOTED-PRINTABLE:

DTSTAMP:20260421T070808Z
DTSTART:20131002T183000Z
DTEND:20131002T235959Z
SEQUENCE:0
RRULE:FREQ=WEEKLY;COUNT=8;INTERVAL=1;BYDAY=WE
EXDATE:20131120T183000Z
TRANSP:OPAQUE
END:VEVENT
END:VCALENDAR