BEGIN:VCALENDAR
VERSION:2.0
PRODID:-//jEvents 1.5 for Joomla//EN
CALSCALE:GREGORIAN
METHOD:PUBLISH
BEGIN:VEVENT

UID:f02482724083f6924b56631b39577492
CATEGORIES:Default
SUMMARY:Easter Sunday Worship
LOCATION:
DESCRIPTION;ENCODING=QUOTED-PRINTABLE:

DTSTAMP:20260420T035237Z
DTSTART:20230409T103000Z
DTEND:20230409T113000Z
SEQUENCE:0
TRANSP:OPAQUE
END:VEVENT
END:VCALENDAR