BEGIN:VCALENDAR
VERSION:2.0
PRODID:-//jEvents 1.5 for Joomla//EN
CALSCALE:GREGORIAN
METHOD:PUBLISH
BEGIN:VEVENT

UID:a4982f717d19e46015a637b4d20838b1
CATEGORIES:Default
SUMMARY:Worship with Communion
LOCATION:
DESCRIPTION;ENCODING=QUOTED-PRINTABLE:

DTSTAMP:20260421T022405Z
DTSTART:20221204T103000Z
DTEND:20221204T113000Z
SEQUENCE:0
TRANSP:OPAQUE
END:VEVENT
END:VCALENDAR