BEGIN:VCALENDAR
VERSION:2.0
PRODID:-//jEvents 1.5 for Joomla//EN
CALSCALE:GREGORIAN
METHOD:PUBLISH
BEGIN:VEVENT

UID:bdbfa7a4e003f36b47b2fc6236c553d4
CATEGORIES:Default
SUMMARY:Choir
LOCATION:
DESCRIPTION;ENCODING=QUOTED-PRINTABLE:

DTSTAMP:20260422T001902Z
DTSTART:20130904T190000Z
DTEND:20130904T235959Z
SEQUENCE:0
RRULE:FREQ=WEEKLY;COUNT=9;INTERVAL=1;BYDAY=WE
TRANSP:OPAQUE
END:VEVENT
END:VCALENDAR