BEGIN:VCALENDAR
VERSION:2.0
PRODID:-//jEvents 1.5 for Joomla//EN
CALSCALE:GREGORIAN
METHOD:PUBLISH
BEGIN:VEVENT

UID:bd03d10e30e0bc432c6350d138f3af28
CATEGORIES:Default
SUMMARY:Golden Living Center Visits
LOCATION:
DESCRIPTION;ENCODING=QUOTED-PRINTABLE:

DTSTAMP:20260419T183911Z
DTSTART:20130607T033000Z
DTEND:20130607T235959Z
SEQUENCE:0
RRULE:FREQ=WEEKLY;COUNT=6;INTERVAL=1;BYDAY=FR
EXDATE:20130621T033000Z
TRANSP:OPAQUE
END:VEVENT
END:VCALENDAR