BEGIN:VCALENDAR
VERSION:2.0
PRODID:-//jEvents 1.5 for Joomla//EN
CALSCALE:GREGORIAN
METHOD:PUBLISH
BEGIN:VEVENT

UID:348c176a5acc62b207fb2ced9734db58
CATEGORIES:Default
SUMMARY:Dan Merkel - Haden Bowie Wedding
LOCATION:
DESCRIPTION;ENCODING=QUOTED-PRINTABLE:

DTSTAMP:20260420T050134Z
DTSTART:20130831T150000Z
DTEND:20130831T235959Z
SEQUENCE:0
TRANSP:OPAQUE
END:VEVENT
END:VCALENDAR