BEGIN:VCALENDAR
VERSION:2.0
PRODID:-//jEvents 1.5 for Joomla//EN
CALSCALE:GREGORIAN
METHOD:PUBLISH
BEGIN:VEVENT

UID:c1299c77fa05e19673dc05eb766d1d65
CATEGORIES:Default
SUMMARY:Wedding Rehearsal
LOCATION:
DESCRIPTION;ENCODING=QUOTED-PRINTABLE:

DTSTAMP:20260421T023417Z
DTSTART:20130830
DTEND:20130830
SEQUENCE:0
TRANSP:OPAQUE
END:VEVENT
END:VCALENDAR