BEGIN:VCALENDAR
VERSION:2.0
PRODID:-//jEvents 1.5 for Joomla//EN
CALSCALE:GREGORIAN
METHOD:PUBLISH
BEGIN:VEVENT

UID:64ce370d77c29b80a840fb063e135d97
CATEGORIES:Default
SUMMARY:Sabbatical Ends
LOCATION:
DESCRIPTION;ENCODING=QUOTED-PRINTABLE:

DTSTAMP:20260422T065352Z
DTSTART:20130827
DTEND:20130827
SEQUENCE:0
TRANSP:OPAQUE
END:VEVENT
END:VCALENDAR