BEGIN:VCALENDAR
VERSION:2.0
PRODID:-//jEvents 1.5 for Joomla//EN
CALSCALE:GREGORIAN
METHOD:PUBLISH
BEGIN:VEVENT

UID:973ab8b5585cbcad60143917b40d9283
CATEGORIES:Default
SUMMARY:Outdoor Worship with Communion 
LOCATION:
DESCRIPTION;ENCODING=QUOTED-PRINTABLE:

DTSTAMP:20260420T015737Z
DTSTART:20130609T093000Z
DTEND:20130609T150000Z
SEQUENCE:0
RRULE:FREQ=WEEKLY;COUNT=13;INTERVAL=1;BYDAY=SU
EXDATE:20130804T093000Z,20130901T093000Z
TRANSP:OPAQUE
END:VEVENT
BEGIN:VEVENT
UID:973ab8b5585cbcad60143917b40d9283
CATEGORIES:Default
SUMMARY:Worship
LOCATION:
DESCRIPTION;ENCODING=QUOTED-PRINTABLE:

DTSTAMP:20260420T015737Z
DTSTART:20130721T093000Z
DTEND:20130721T150000Z
RECURRENCE-ID:20130721T093000Z
SEQUENCE:0
TRANSP:OPAQUE
END:VEVENT
BEGIN:VEVENT
UID:973ab8b5585cbcad60143917b40d9283
CATEGORIES:Default
SUMMARY:Worship
LOCATION:
DESCRIPTION;ENCODING=QUOTED-PRINTABLE:

DTSTAMP:20260420T015737Z
DTSTART:20130714T093000Z
DTEND:20130714T150000Z
RECURRENCE-ID:20130714T093000Z
SEQUENCE:0
TRANSP:OPAQUE
END:VEVENT
BEGIN:VEVENT
UID:973ab8b5585cbcad60143917b40d9283
CATEGORIES:Default
SUMMARY:Worship with Communion
LOCATION:
DESCRIPTION;ENCODING=QUOTED-PRINTABLE:

DTSTAMP:20260420T015737Z
DTSTART:20130707T093000Z
DTEND:20130707T150000Z
RECURRENCE-ID:20130707T093000Z
SEQUENCE:0
TRANSP:OPAQUE
END:VEVENT
BEGIN:VEVENT
UID:973ab8b5585cbcad60143917b40d9283
CATEGORIES:Default
SUMMARY:Worship with Communion
LOCATION:
DESCRIPTION;ENCODING=QUOTED-PRINTABLE:

DTSTAMP:20260420T015737Z
DTSTART:20130811T093000Z
DTEND:20130811T150000Z
RECURRENCE-ID:20130811T093000Z
SEQUENCE:0
TRANSP:OPAQUE
END:VEVENT
BEGIN:VEVENT
UID:973ab8b5585cbcad60143917b40d9283
CATEGORIES:Default
SUMMARY:Worship
LOCATION:
DESCRIPTION;ENCODING=QUOTED-PRINTABLE:

DTSTAMP:20260420T015737Z
DTSTART:20130818T093000Z
DTEND:20130818T150000Z
RECURRENCE-ID:20130818T093000Z
SEQUENCE:0
TRANSP:OPAQUE
END:VEVENT
BEGIN:VEVENT
UID:973ab8b5585cbcad60143917b40d9283
CATEGORIES:Default
SUMMARY:Worship
LOCATION:
DESCRIPTION;ENCODING=QUOTED-PRINTABLE:

DTSTAMP:20260420T015737Z
DTSTART:20130825T093000Z
DTEND:20130825T150000Z
RECURRENCE-ID:20130825T093000Z
SEQUENCE:0
TRANSP:OPAQUE
END:VEVENT
BEGIN:VEVENT
UID:973ab8b5585cbcad60143917b40d9283
CATEGORIES:Default
SUMMARY:Worship
LOCATION:
DESCRIPTION;ENCODING=QUOTED-PRINTABLE:

DTSTAMP:20260420T015737Z
DTSTART:20130728T093000Z
DTEND:20130728T150000Z
RECURRENCE-ID:20130728T093000Z
SEQUENCE:0
TRANSP:OPAQUE
END:VEVENT
END:VCALENDAR