BEGIN:VCALENDAR
VERSION:2.0
PRODID:-//jEvents 1.5 for Joomla//EN
CALSCALE:GREGORIAN
METHOD:PUBLISH
BEGIN:VEVENT

UID:f5e329e1bd74c48c8b5e58eaecdac888
CATEGORIES:Default
SUMMARY:Coffee and Fellowship
LOCATION:
DESCRIPTION;ENCODING=QUOTED-PRINTABLE:

DTSTAMP:20260419T202452Z
DTSTART:20130602T103000Z
DTEND:20130602T235959Z
SEQUENCE:0
RRULE:FREQ=WEEKLY;COUNT=13;INTERVAL=1;BYDAY=SU
TRANSP:OPAQUE
END:VEVENT
END:VCALENDAR