BEGIN:VCALENDAR
VERSION:2.0
PRODID:-//jEvents 1.5 for Joomla//EN
CALSCALE:GREGORIAN
METHOD:PUBLISH
BEGIN:VEVENT

UID:ce6994c3fcc8c91789d7b55aa8a07cfe
CATEGORIES:Default
SUMMARY:Coffee with the Pastor
LOCATION:
DESCRIPTION;ENCODING=QUOTED-PRINTABLE:

DTSTAMP:20260420T015533Z
DTSTART:20130530T100000Z
DTEND:20130530T235959Z
SEQUENCE:0
RRULE:FREQ=WEEKLY;COUNT=13;INTERVAL=1;BYDAY=TH
EXDATE:20130725T100000Z,20130801T100000Z,20130704T100000Z
TRANSP:OPAQUE
END:VEVENT
END:VCALENDAR