BEGIN:VCALENDAR
VERSION:2.0
PRODID:-//jEvents 1.5 for Joomla//EN
CALSCALE:GREGORIAN
METHOD:PUBLISH
BEGIN:VEVENT

UID:dc4ce294cf57b7b10949c54b154965f1
CATEGORIES:Default
SUMMARY:Coffee with the Pastor
LOCATION:
DESCRIPTION;ENCODING=QUOTED-PRINTABLE:

DTSTAMP:20260420T013324Z
DTSTART:20130507
DTEND:20130507
SEQUENCE:0
RRULE:FREQ=WEEKLY;COUNT=3;INTERVAL=1;BYDAY=TU
TRANSP:OPAQUE
END:VEVENT
BEGIN:VEVENT
UID:dc4ce294cf57b7b10949c54b154965f1
CATEGORIES:Default
SUMMARY:No Pastor
LOCATION:
DESCRIPTION;ENCODING=QUOTED-PRINTABLE:

DTSTAMP:20260420T013324Z
DTSTART:20130507T000000Z
DTEND:20130507T235959Z
RECURRENCE-ID:20130507T093000Z
SEQUENCE:0
TRANSP:OPAQUE
END:VEVENT
END:VCALENDAR